BEGIN:VCALENDAR
VERSION:2.0
PRODID:-//Win Nuernberg - ECPv6.13.2.1//NONSGML v1.0//EN
CALSCALE:GREGORIAN
METHOD:PUBLISH
X-WR-CALNAME:Win Nuernberg
X-ORIGINAL-URL:https://win-nuernberg.de
X-WR-CALDESC:Veranstaltungen für Win Nuernberg
REFRESH-INTERVAL;VALUE=DURATION:PT1H
X-Robots-Tag:noindex
X-PUBLISHED-TTL:PT1H
BEGIN:VTIMEZONE
TZID:Europe/Berlin
BEGIN:DAYLIGHT
TZOFFSETFROM:+0100
TZOFFSETTO:+0200
TZNAME:CEST
DTSTART:20260329T010000
END:DAYLIGHT
BEGIN:STANDARD
TZOFFSETFROM:+0200
TZOFFSETTO:+0100
TZNAME:CET
DTSTART:20261025T010000
END:STANDARD
END:VTIMEZONE
BEGIN:VEVENT
DTSTART;TZID=Europe/Berlin:20260420T173000
DTEND;TZID=Europe/Berlin:20260420T190000
DTSTAMP:20260420T120131
CREATED:20260211T150046Z
LAST-MODIFIED:20260211T150046Z
UID:10014474-1776706200-1776711600@win-nuernberg.de
SUMMARY:Kochwerkstatt
DESCRIPTION:In der Kochwerkstatt wird gemeinsam ein unkompliziertes Menü zubereitet – für alle geeignet\, ohne Stress\, mit Spaß am Kochen. \nDanach gibt es gemeinsames Essen in gemütlicher Runde \nZeit: ca. 2\,5 Std \nKosten-Beitrag: 7\,- € (bei Anmeldung zu entrichten) \nTeilnehmer-Anzahl: max. 8 \nAnmeldung unter: \nmarie15@winggmbh.org \nTermine 23. Februar\, 23. März\, 20. April 2026 \nZur Anmeldung &#8211; Kochwerkstatt: \n23.02.: https://www.eventbrite.com/e/kochwerkstatt-tickets-1982183950555 \n23.03.: https://www.eventbrite.com/e/kochwerkstatt-tickets-1982184015750 \n20.04.: https://www.eventbrite.com/e/kochwerkstatt-tickets-1982184073924
URL:https://win-nuernberg.de/veranstaltung/kochwerkstatt/2026-04-20/
LOCATION:Marie15\, Marienstraße 15\, Nürnberg\, 90402
ATTACH;FMTTYPE=image/png:https://win-nuernberg.de/wp-content/uploads/2026/02/Kochwerkstatt-Febr-April-e1770821995166.png
ORGANIZER;CN="Marie15":MAILTO:Marie15@winggmbh.org
END:VEVENT
BEGIN:VEVENT
DTSTART;TZID=Europe/Berlin:20260420T190000
DTEND;TZID=Europe/Berlin:20260420T200000
DTSTAMP:20260420T120131
CREATED:20260418T154606Z
LAST-MODIFIED:20260418T154606Z
UID:10014544-1776711600-1776715200@win-nuernberg.de
SUMMARY:Offene Blockflötengruppe in der Marie15
DESCRIPTION:Du spielst schon seit einiger Zeit Blockflöte (C- oder F-Flöte) und möchtest gerne mit Gleichgesinnten in einem kleinen Ensemble spielen? Dann bist Du ab sofort in der Marie 15 richtig! \nGemeinsam überlegen wir\, was wir spielen möchten und wie oft wir uns weiterhin treffen wollen. Jede/r bringt sein/e Instrument/e mit. Wir spielen ungefähr eine Stunde zusammen. \nUnterstützt wird die Gruppe von einer Meisterschülerin an der Hochschule für Musik mit Masterabschluss. Die Kosten für die Lehrerin teilen wir uns. Weitere Kosten fallen nicht an.\nWas zählt ist die Freude am gemeinsamen Musizieren und die Möglichkeit\, sich weiterzuentwickeln.
URL:https://win-nuernberg.de/veranstaltung/blockfloetengruppe-in-der-marie15-3-2/2026-04-20/
LOCATION:Marie15\, Marienstraße 15\, Nürnberg\, 90402
CATEGORIES:Musik,Neue Menschen kennen lernen
ATTACH;FMTTYPE=image/jpeg:https://win-nuernberg.de/wp-content/uploads/2024/10/Blockfloeten-Gruppe-Marie15_300.jpg
ORGANIZER;CN="Marie15":MAILTO:Marie15@winggmbh.org
END:VEVENT
END:VCALENDAR